BEGIN:VCALENDAR
METHOD:PUBLISH
PRODID:-//Weblication CMS
VERSION:2.0
BEGIN:VEVENT
SUMMARY:Gruppe aus Klassen 9cde10ab in Spanien
DTSTART:20250526T000000
DTEND:20250602T235959
DESCRIPTION:in Igorre, Baskenland beim Spanienaustausch
LOCATION:
UID:https://einstein-gym.de/aeg/termine/termine/Gruppe-aus-Klassen-9cde10ab-in-Spanien.php?uid=ba9d2cae0283313946ffe68d65b9dcb7
URL:https://einstein-gym.de/aeg/termine/termine/Gruppe-aus-Klassen-9cde10ab-in-Spanien.php
END:VEVENT
END:VCALENDAR